BEGIN:VCALENDAR
VERSION:2.0
PRODID:-//eventon.com NONSGML v1.0//EN
BEGIN:VEVENT
UID:69ed5889dcf5c
DTSTAMP:20260426T021257
DTSTART:20211218T110000Z
DTEND:20211218T130000Z
TZID:Europe/Berlin
LOCATION:Gewandhaus zu Leipzig 
SUMMARY:Bergmannsweihnacht
DESCRIPTION: Bergmannsweihnacht
URL:https://www.musikkorps-schneeberg.de/events/bergmannsweihnacht/
END:VEVENT
END:VCALENDAR