BEGIN:VCALENDAR
VERSION:2.0
PRODID:-//eventon.com NONSGML v1.0//EN
BEGIN:VEVENT
UID:69e738f13dad2
DTSTAMP:20260421T104433
DTSTART:20241221T150000Z
DTEND:20241221T163000Z
TZID:Europe/Berlin
LOCATION:Leipzig 
SUMMARY:Bergparade Leipzig
DESCRIPTION: Bergparade Leipzig
URL:https://www.musikkorps-schneeberg.de/events/bergparade-leipzig-2/
END:VEVENT
END:VCALENDAR