BEGIN:VCALENDAR
VERSION:2.0
PRODID:-//eventon.com NONSGML v1.0//EN
BEGIN:VEVENT
UID:69e73bc706695
DTSTAMP:20260421T105639
DTSTART:2025070400Z
DTEND:2025070400Z
TZID:UTC
LOCATION:
SUMMARY:Konzertreise nach Stücken
DESCRIPTION: Konzertreise nach Stücken
URL:https://www.musikkorps-schneeberg.de/events/konzertreise-nach-stuecken/
END:VEVENT
END:VCALENDAR